BEGIN:VCALENDAR
VERSION:2.0
PRODID:-//69.160.38.3//NONSGML kigkonsult.se iCalcreator 2.20//
CALSCALE:GREGORIAN
METHOD:PUBLISH
X-WR-CALNAME:Homeschool Support Services Australia
X-WR-CALDESC:News and Information from Students and Parents
X-FROM-URL:http://www.gympie.edu.asn.au/home
X-WR-TIMEZONE:UTC
BEGIN:VTIMEZONE
TZID:UTC
X-LIC-LOCATION:UTC
BEGIN:STANDARD
DTSTART:00001130T000000
TZOFFSETFROM:+0000
TZOFFSETTO:+0000
TZNAME:UTC
END:STANDARD
END:VTIMEZONE
BEGIN:VEVENT
UID:ai1ec-127@www.gympie.edu.asn.au/home
DTSTAMP:20200227T230536Z
CATEGORIES;LANGUAGE=en-AU:Local Events
CONTACT:
DESCRIPTION:
DTSTART:20171124T080000Z
DTEND:20171124T090000Z
LOCATION:Online Launch
SEQUENCE:0
SUMMARY:Gympie Homeschool Site Launch
URL:http://www.gympie.edu.asn.au/home/blog/event/gympie-homeschool-site-lau
 nch/
X-COST-TYPE:free
END:VEVENT
END:VCALENDAR
